BEGIN:VCALENDAR
VERSION:2.0
PRODID:Events Booking
BEGIN:VEVENT
UID:69ebd9ff6db8f
SUMMARY:Gestion de conflits : Naviguez avec brio au milieu de situations di
 fficiles
DESCRIPTION:
 
 
 Ayoub ChobahCoach et formateur à la Faculté de méde
 cine\, uOttawa
 *Les heures affichées sont en heure de l’Est (HE)
  
 
 
 
  
 Objectifs d’apprentissage :
 
 Discerner les styles de g
 estion de conflits.
 Adopter une approche appropriée pour gérer efficac
 ement les conflits.
 Aborder les conversations difficiles.
 
 Vous pouv
 ez vous inscrire pour visionner la conférence en différé\, disponible j
 usqu’au 4 février 2026. 
DTSTART:20260121T170000Z
DTEND:20260205T045500Z
DTSTAMP:20251107T004507Z
ORGANIZER;CN=CNFS - Volet uOttawa:MAILTO:cnfs@cnfs.ca
END:VEVENT
END:VCALENDAR